BEGIN:VCALENDAR
VERSION:2.0
PRODID:-//Havre de Grace Living - ECPv6.15.20//NONSGML v1.0//EN
CALSCALE:GREGORIAN
METHOD:PUBLISH
X-WR-CALNAME:Havre de Grace Living
X-ORIGINAL-URL:https://hdgliving.com
X-WR-CALDESC:Events for Havre de Grace Living
REFRESH-INTERVAL;VALUE=DURATION:PT1H
X-Robots-Tag:noindex
X-PUBLISHED-TTL:PT1H
BEGIN:VTIMEZONE
TZID:America/New_York
BEGIN:DAYLIGHT
TZOFFSETFROM:-0500
TZOFFSETTO:-0400
TZNAME:EDT
DTSTART:20190310T070000
END:DAYLIGHT
BEGIN:STANDARD
TZOFFSETFROM:-0400
TZOFFSETTO:-0500
TZNAME:EST
DTSTART:20191103T060000
END:STANDARD
BEGIN:DAYLIGHT
TZOFFSETFROM:-0500
TZOFFSETTO:-0400
TZNAME:EDT
DTSTART:20200308T070000
END:DAYLIGHT
BEGIN:STANDARD
TZOFFSETFROM:-0400
TZOFFSETTO:-0500
TZNAME:EST
DTSTART:20201101T060000
END:STANDARD
BEGIN:DAYLIGHT
TZOFFSETFROM:-0500
TZOFFSETTO:-0400
TZNAME:EDT
DTSTART:20210314T070000
END:DAYLIGHT
BEGIN:STANDARD
TZOFFSETFROM:-0400
TZOFFSETTO:-0500
TZNAME:EST
DTSTART:20211107T060000
END:STANDARD
BEGIN:DAYLIGHT
TZOFFSETFROM:-0500
TZOFFSETTO:-0400
TZNAME:EDT
DTSTART:20220313T070000
END:DAYLIGHT
BEGIN:STANDARD
TZOFFSETFROM:-0400
TZOFFSETTO:-0500
TZNAME:EST
DTSTART:20221106T060000
END:STANDARD
END:VTIMEZONE
BEGIN:VEVENT
DTSTART;VALUE=DATE:20210313
DTEND;VALUE=DATE:20210315
DTSTAMP:20260423T183103
CREATED:20210121T123130Z
LAST-MODIFIED:20210121T123130Z
UID:1227-1615593600-1615766399@hdgliving.com
SUMMARY:Third Annual Ice Festival
DESCRIPTION: The 2021 Havre de Grace Ice Festival will take place in beautiful downtown Havre de Grace. With beautifully lit ice sculptures throughout the downtown area\, there is a wide array of things to do and see both days including: live ice-carving demonstrations and in store specials. Visit the Facebook page for more info! \n  \nLODGING INFO FOR OVERNIGHT GUESTS: \nVANDIVER INN (410) 939-5200\n**OFFICIAL LODGING SPONSOR**\n301 S Union Avenue\, Havre de Grace\nwww.vandiverinn.com \nHILTON GARDEN INN (Aberdeen) (410) 272-1777\n**SPECIAL FIRE & ICE RATES AT THE LINK BELOW**\nhttps://hiltongardeninn.hilton.com/en/gi/groups/personalized/B/BWIABGI-FIF-20200117/index.jhtml?WT.mc_id=POG \nCURRIER HOUSE (410) 939-7886\n800 S Market Street\, Havre de Grace\nwww.currierhouse.com \nLA CLE D’OR (410) 939-6562\n226 N Union Avenue\, Havre de Grace\nwww.lacledorguesthouse.com \nSPENCER SILVER MANSION (410) 939-1485\n200 S Union Avenue\, Havre de Grace\nwww.spencersilvermansion.com \nTHE WHITE HOUSE (443) 553-7609\n412 Green Street\, Havre de Grace\nwww.whitehouseofhavredegrace.com \n  \n  \n 
URL:https://hdgliving.com/event/third-annual-ice-festival/
LOCATION:Havre de Grace\, MD
END:VEVENT
BEGIN:VEVENT
DTSTART;TZID=America/New_York:20201219T120000
DTEND;TZID=America/New_York:20201219T140000
DTSTAMP:20260423T183103
CREATED:20201213T213533Z
LAST-MODIFIED:20201213T224738Z
UID:371-1608379200-1608386400@hdgliving.com
SUMMARY:Photos with Santa in Historic Havre de Grace
DESCRIPTION:Santa is coming to Historic Havre de Grace on December 19th and he is driving a Vintage Chevy! Families will register in advance for a time slot and will get to pose with Santa for a photo (masks and social distancing will be required). The cost to register is $20. After\, your photo is taken you will receive $20 worth of “Holly Dollars” that can be used at participating merchants on 12/19. This is a great way to have a fun\, safe Santa experience\, receive a digital Santa photo and support local businesses!
URL:https://hdgliving.com/event/photos-with-santa-in-historic-havre-de-grace/
LOCATION:WHGM Gold\, 331 N. Union Avenue\, Havre de Grace\, MD\, MD\, 21078\, United States
ORGANIZER;CN="HDG Living":MAILTO:hdgliving@gmail.com
END:VEVENT
END:VCALENDAR